BEGIN:VCALENDAR
VERSION:2.0
PRODID:-//82.100.220.37//NONSGML kigkonsult.se iCalcreator 2.20//
CALSCALE:GREGORIAN
METHOD:PUBLISH
X-WR-TIMEZONE:Europe/Berlin
BEGIN:VEVENT
UID:event1135@MSA Zugzwang 82 e.V.
DTSTAMP:20260424T044306Z
CATEGORIES:Gesamt
DESCRIPTION:2. Bundesliga R8\nKategorie: Gesamt\nICS-Link: https://zugzwang
 -muenchen.de/index.php?option=com_jem&view=event&id=1135:zweite-bundesliga
 -runde8\n
DTSTART;TZID=Europe/Berlin:20250222T140000
DTEND;TZID=Europe/Berlin:20250222T200000
LOCATION:BayernLB Sportarena\,Osterwaldstraße 76\,80805 München
SUMMARY:2. Bundesliga R8
URL:https://zugzwang-muenchen.de/index.php?option=com_jem&view=event&id=113
 5:zweite-bundesliga-runde8
END:VEVENT
END:VCALENDAR