BEGIN:VCALENDAR
VERSION:2.0
PRODID:-//82.100.220.37//NONSGML kigkonsult.se iCalcreator 2.20//
CALSCALE:GREGORIAN
METHOD:PUBLISH
X-WR-TIMEZONE:Europe/Berlin
BEGIN:VEVENT
UID:event777@MSA Zugzwang 82 e.V.
DTSTAMP:20260425T134122Z
CATEGORIES:Gesamt
DESCRIPTION:BMM R3: Haunstetten 1 - ZZ 2\nKategorie: Gesamt\nICS-Link: http
 s://zugzwang-muenchen.de/index.php?option=com_jem&view=event&id=777:bmm-r3
 -haunstetten-1-zz-2\n
DTSTART;TZID=Europe/Berlin:20220626T100000
DTEND;TZID=Europe/Berlin:20220626T160000
SUMMARY:BMM R3: Haunstetten 1 - ZZ 2
URL:https://zugzwang-muenchen.de/index.php?option=com_jem&view=event&id=777
 :bmm-r3-haunstetten-1-zz-2
END:VEVENT
END:VCALENDAR