BEGIN:VCALENDAR
VERSION:2.0
PRODID:-//82.100.220.37//NONSGML kigkonsult.se iCalcreator 2.20//
CALSCALE:GREGORIAN
METHOD:PUBLISH
X-WR-TIMEZONE:Europe/Berlin
BEGIN:VEVENT
UID:event791@MSA Zugzwang 82 e.V.
DTSTAMP:20260419T210910Z
CATEGORIES:Jugend
DESCRIPTION:Training \nKategorie: Jugend\nICS-Link: https://zugzwang-muench
 en.de/index.php?option=com_jem&view=event&id=791:training\n
DTSTART;TZID=Europe/Berlin:20220708T160000
DTEND;TZID=Europe/Berlin:20220708T180000
LOCATION:Münchener Schachakademie\,Zweibrückenstraße 8\,80331 München
SUMMARY:Training 
URL:https://zugzwang-muenchen.de/index.php?option=com_jem&view=event&id=791
 :training
END:VEVENT
END:VCALENDAR