BEGIN:VCALENDAR
VERSION:2.0
PRODID:-//82.100.220.37//NONSGML kigkonsult.se iCalcreator 2.20//
CALSCALE:GREGORIAN
METHOD:PUBLISH
X-WR-TIMEZONE:Europe/Berlin
BEGIN:VEVENT
UID:event809@MSA Zugzwang 82 e.V.
DTSTAMP:20260425T012218Z
CATEGORIES:Gesamt
DESCRIPTION:Vereinsabend im Biergarten\nKategorie: Gesamt\nICS-Link: https:
 //zugzwang-muenchen.de/index.php?option=com_jem&view=event&id=809:vereinsa
 bend-im-biergarten\n
DTSTART;TZID=Europe/Berlin:20220902T190000
DTEND;TZID=Europe/Berlin:20220902T230000
LOCATION:Bürgerheim\,Bergmannstraße 33\,80339 München
SUMMARY:Vereinsabend im Biergarten
URL:https://zugzwang-muenchen.de/index.php?option=com_jem&view=event&id=809
 :vereinsabend-im-biergarten
END:VEVENT
END:VCALENDAR