BEGIN:VCALENDAR
VERSION:2.0
PRODID:-//82.100.220.37//NONSGML kigkonsult.se iCalcreator 2.20//
CALSCALE:GREGORIAN
METHOD:PUBLISH
X-WR-TIMEZONE:Europe/Berlin
BEGIN:VEVENT
UID:event937@MSA Zugzwang 82 e.V.
DTSTAMP:20260419T173645Z
CATEGORIES:Gesamt
DESCRIPTION:Erste Bundesliga ZZ1 R5 in Ötigheim\nKategorie: Gesamt\nICS-Lin
 k: https://zugzwang-muenchen.de/index.php?option=com_jem&view=event&id=937
 :erste-bundesliga-zz1-r5\n
DTSTART;TZID=Europe/Berlin:20240113T140000
DTEND;TZID=Europe/Berlin:20240113T200000
SUMMARY:Erste Bundesliga ZZ1 R5 in Ötigheim
URL:https://zugzwang-muenchen.de/index.php?option=com_jem&view=event&id=937
 :erste-bundesliga-zz1-r5
END:VEVENT
END:VCALENDAR